Package: universalmotif Version: 1.27.2 Command: chmod a+r universalmotif -R && F:\biocbuild\bbs-3.22-bioc\R\bin\R.exe CMD build --keep-empty-dirs --no-resave-data universalmotif StartedAt: 2025-08-14 23:54:42 -0400 (Thu, 14 Aug 2025) EndedAt: 2025-08-15 00:01:09 -0400 (Fri, 15 Aug 2025) EllapsedTime: 386.7 seconds RetCode: 0 Status: OK PackageFile: universalmotif_1.27.2.tar.gz PackageFileSize: 3.558 MiB