Package: universalmotif Version: 1.25.1 Command: E:\biocbuild\bbs-3.21-bioc\R\bin\R.exe CMD INSTALL universalmotif StartedAt: 2025-02-05 15:42:03 -0500 (Wed, 05 Feb 2025) EndedAt: 2025-02-05 15:46:35 -0500 (Wed, 05 Feb 2025) EllapsedTime: 272.1 seconds RetCode: 0 Status: OK