Package: universalmotif Version: 1.25.1 Command: E:\biocbuild\bbs-3.21-bioc\R\bin\R.exe CMD check --no-multiarch --install=check:universalmotif.install-out.txt --library=E:\biocbuild\bbs-3.21-bioc\R\library --no-vignettes --timings universalmotif_1.25.1.tar.gz StartedAt: 2025-02-06 06:55:26 -0500 (Thu, 06 Feb 2025) EndedAt: 2025-02-06 06:58:54 -0500 (Thu, 06 Feb 2025) EllapsedTime: 208.1 seconds RetCode: 0 Status: OK CheckDir: universalmotif.Rcheck Warnings: 0