Package: universalmotif Version: 1.25.1 Command: chmod a+r universalmotif -R && E:\biocbuild\bbs-3.21-bioc\R\bin\R.exe CMD build --keep-empty-dirs --no-resave-data universalmotif StartedAt: 2025-02-05 22:20:40 -0500 (Wed, 05 Feb 2025) EndedAt: 2025-02-05 22:26:54 -0500 (Wed, 05 Feb 2025) EllapsedTime: 374.5 seconds RetCode: 0 Status: OK PackageFile: universalmotif_1.25.1.tar.gz PackageFileSize: 3.558 MiB