Package: universalmotif Version: 1.25.1 Command: rm -rf universalmotif.buildbin-libdir && mkdir universalmotif.buildbin-libdir && E:\biocbuild\bbs-3.21-bioc\R\bin\R.exe CMD INSTALL --build --library=universalmotif.buildbin-libdir universalmotif_1.25.1.tar.gz StartedAt: 2025-02-06 09:16:18 -0500 (Thu, 06 Feb 2025) EndedAt: 2025-02-06 09:19:41 -0500 (Thu, 06 Feb 2025) EllapsedTime: 203.0 seconds RetCode: 0 Status: OK PackageFile: universalmotif_1.25.1.zip PackageFileSize: 5.81 MiB