Package: universalmotif Version: 1.25.1 Command: /Library/Frameworks/R.framework/Resources/bin/R CMD INSTALL universalmotif StartedAt: 2025-02-05 15:09:17 -0500 (Wed, 05 Feb 2025) EndedAt: 2025-02-05 15:11:27 -0500 (Wed, 05 Feb 2025) EllapsedTime: 129.8 seconds RetCode: 0 Status: OK