Package: universalmotif Version: 1.25.1 Command: /Library/Frameworks/R.framework/Resources/bin/R CMD build --keep-empty-dirs --no-resave-data universalmotif StartedAt: 2025-02-05 18:39:16 -0500 (Wed, 05 Feb 2025) EndedAt: 2025-02-05 18:43:50 -0500 (Wed, 05 Feb 2025) EllapsedTime: 274.2 seconds RetCode: 0 Status: OK PackageFile: universalmotif_1.25.1.tar.gz PackageFileSize: 3.525 MiB