Package: universalmotif Version: 1.25.1 Command: /home/biocbuild/R/R/bin/R CMD build --keep-empty-dirs --no-resave-data universalmotif StartedAt: 2025-01-28 03:05:57 -0000 (Tue, 28 Jan 2025) EndedAt: 2025-01-28 03:11:46 -0000 (Tue, 28 Jan 2025) EllapsedTime: 349.1 seconds RetCode: 0 Status: OK PackageFile: universalmotif_1.25.1.tar.gz PackageFileSize: 3.575 MiB