Package: universalmotif Version: 1.25.1 Command: /Library/Frameworks/R.framework/Resources/bin/R CMD INSTALL universalmotif StartedAt: 2025-02-03 15:40:58 -0500 (Mon, 03 Feb 2025) EndedAt: 2025-02-03 15:41:30 -0500 (Mon, 03 Feb 2025) EllapsedTime: 32.2 seconds RetCode: 0 Status: OK