Package: universalmotif Version: 1.25.1 Command: /Library/Frameworks/R.framework/Resources/bin/R CMD check --install=check:universalmotif.install-out.txt --library=/Library/Frameworks/R.framework/Resources/library --no-vignettes --timings universalmotif_1.25.1.tar.gz StartedAt: 2025-01-31 21:55:06 -0500 (Fri, 31 Jan 2025) EndedAt: 2025-01-31 21:56:06 -0500 (Fri, 31 Jan 2025) EllapsedTime: 59.7 seconds RetCode: 0 Status: OK CheckDir: universalmotif.Rcheck Warnings: 0