Package: universalmotif Version: 1.25.1 Command: /Library/Frameworks/R.framework/Resources/bin/R CMD build --keep-empty-dirs --no-resave-data universalmotif StartedAt: 2025-02-05 17:54:49 -0500 (Wed, 05 Feb 2025) EndedAt: 2025-02-05 17:56:20 -0500 (Wed, 05 Feb 2025) EllapsedTime: 91.0 seconds RetCode: 0 Status: OK PackageFile: universalmotif_1.25.1.tar.gz PackageFileSize: 3.638 MiB