Package: uSORT Version: 1.35.0 Command: /home/biocbuild/bbs-3.22-bioc/R/bin/R CMD INSTALL uSORT StartedAt: 2025-10-20 15:13:20 -0400 (Mon, 20 Oct 2025) EndedAt: 2025-10-20 15:13:40 -0400 (Mon, 20 Oct 2025) EllapsedTime: 19.8 seconds RetCode: 0 Status: OK