Package: uSORT Version: 1.33.0 Command: /home/biocbuild/R/R/bin/R CMD INSTALL uSORT StartedAt: 2025-01-29 19:37:40 -0000 (Wed, 29 Jan 2025) EndedAt: 2025-01-29 19:38:07 -0000 (Wed, 29 Jan 2025) EllapsedTime: 26.3 seconds RetCode: 0 Status: OK