Package: uSORT Version: 1.33.0 Command: /home/biocbuild/R/R/bin/R CMD check --install=check:uSORT.install-out.txt --library=/home/biocbuild/R/R/site-library --no-vignettes --timings uSORT_1.33.0.tar.gz StartedAt: 2025-01-27 13:47:09 -0000 (Mon, 27 Jan 2025) EndedAt: 2025-01-27 13:51:06 -0000 (Mon, 27 Jan 2025) EllapsedTime: 237.5 seconds RetCode: 0 Status: WARNINGS CheckDir: uSORT.Rcheck Warnings: 1