Package: uSORT Version: 1.35.0 Maintainer: Hao Chen MaintainerEmail: chen_hao at immunol.a-star.edu.sg git_url: https://git.bioconductor.org/packages/uSORT git_branch: devel git_last_commit: c28bb10 git_last_commit_date: 2025-04-15 11:05:21 -0400 (Tue, 15 Apr 2025)