Package: tximport Version: 1.35.0 Command: /Library/Frameworks/R.framework/Resources/bin/R CMD build --keep-empty-dirs --no-resave-data tximport StartedAt: 2025-02-04 18:38:56 -0500 (Tue, 04 Feb 2025) EndedAt: 2025-02-04 18:39:53 -0500 (Tue, 04 Feb 2025) EllapsedTime: 57.2 seconds RetCode: 0 Status: OK PackageFile: tximport_1.35.0.tar.gz PackageFileSize: 308.2 KiB