Package: tximport Version: 1.35.0 Command: rm -rf tximport.buildbin-libdir && mkdir tximport.buildbin-libdir && /Users/biocbuild/BBS/utils/build-universal.sh tximport_1.35.0.tar.gz /Library/Frameworks/R.framework/Resources/bin/R tximport.buildbin-libdir StartedAt: 2025-02-05 01:07:24 -0500 (Wed, 05 Feb 2025) EndedAt: 2025-02-05 01:07:29 -0500 (Wed, 05 Feb 2025) EllapsedTime: 5.8 seconds RetCode: 0 Status: OK PackageFile: tximport_1.35.0.tgz PackageFileSize: 353 KiB