Package: tximeta Version: 1.25.2 Command: chmod a+r tximeta -R && E:\biocbuild\bbs-3.21-bioc\R\bin\R.exe CMD build --keep-empty-dirs --no-resave-data tximeta StartedAt: 2025-02-03 22:25:29 -0500 (Mon, 03 Feb 2025) EndedAt: 2025-02-03 22:27:38 -0500 (Mon, 03 Feb 2025) EllapsedTime: 128.7 seconds RetCode: 0 Status: OK PackageFile: tximeta_1.25.2.tar.gz PackageFileSize: 1.333 MiB