Package: tximeta Version: 1.25.2 Command: /home/biocbuild/bbs-3.21-bioc/R/bin/R CMD check --install=check:tximeta.install-out.txt --library=/home/biocbuild/bbs-3.21-bioc/R/site-library --timings tximeta_1.25.2.tar.gz StartedAt: 2025-02-04 03:42:17 -0500 (Tue, 04 Feb 2025) EndedAt: 2025-02-04 03:48:56 -0500 (Tue, 04 Feb 2025) EllapsedTime: 399.4 seconds RetCode: 0 Status: OK CheckDir: tximeta.Rcheck Warnings: 0