Package: tximeta Version: 1.25.2 Command: /Library/Frameworks/R.framework/Resources/bin/R CMD check --install=check:tximeta.install-out.txt --library=/Library/Frameworks/R.framework/Resources/library --no-vignettes --timings tximeta_1.25.2.tar.gz StartedAt: 2025-02-03 23:58:16 -0500 (Mon, 03 Feb 2025) EndedAt: 2025-02-04 00:04:25 -0500 (Tue, 04 Feb 2025) EllapsedTime: 368.5 seconds RetCode: 0 Status: OK CheckDir: tximeta.Rcheck Warnings: 0