Package: tximeta Version: 1.25.2 Command: /home/biocbuild/R/R/bin/R CMD INSTALL tximeta StartedAt: 2025-01-29 20:03:50 -0000 (Wed, 29 Jan 2025) EndedAt: 2025-01-29 20:04:46 -0000 (Wed, 29 Jan 2025) EllapsedTime: 55.8 seconds RetCode: 0 Status: OK