Package: tximeta Version: 1.25.2 Command: /home/biocbuild/R/R/bin/R CMD check --install=check:tximeta.install-out.txt --library=/home/biocbuild/R/R/site-library --no-vignettes --timings tximeta_1.25.2.tar.gz StartedAt: 2025-01-27 13:44:45 -0000 (Mon, 27 Jan 2025) EndedAt: 2025-01-27 13:53:30 -0000 (Mon, 27 Jan 2025) EllapsedTime: 525.1 seconds RetCode: 0 Status: WARNINGS CheckDir: tximeta.Rcheck Warnings: 5