Package: tximeta Version: 1.25.2 Command: /home/biocbuild/R/R/bin/R CMD build --keep-empty-dirs --no-resave-data tximeta StartedAt: 2025-01-28 03:03:55 -0000 (Tue, 28 Jan 2025) EndedAt: 2025-01-28 03:06:07 -0000 (Tue, 28 Jan 2025) EllapsedTime: 132.1 seconds RetCode: 0 Status: OK PackageFile: tximeta_1.25.2.tar.gz PackageFileSize: 1.396 MiB