Package: tximeta Version: 1.25.2 Command: /Library/Frameworks/R.framework/Resources/bin/R CMD build --keep-empty-dirs --no-resave-data tximeta StartedAt: 2025-02-03 18:27:55 -0500 (Mon, 03 Feb 2025) EndedAt: 2025-02-03 18:28:36 -0500 (Mon, 03 Feb 2025) EllapsedTime: 40.5 seconds RetCode: 0 Status: OK PackageFile: tximeta_1.25.2.tar.gz PackageFileSize: 1.333 MiB