Package: txdbmaker Version: 1.3.1 Command: /Library/Frameworks/R.framework/Resources/bin/R CMD build --keep-empty-dirs --no-resave-data txdbmaker StartedAt: 2025-01-10 17:53:11 -0500 (Fri, 10 Jan 2025) EndedAt: 2025-01-10 17:53:52 -0500 (Fri, 10 Jan 2025) EllapsedTime: 41.5 seconds RetCode: 0 Status: OK PackageFile: txdbmaker_1.3.1.tar.gz PackageFileSize: 1010 KiB