Package: txcutr Version: 1.15.2 Command: /home/biocbuild/R/R/bin/R CMD INSTALL txcutr StartedAt: 2025-10-16 21:57:47 -0000 (Thu, 16 Oct 2025) EndedAt: 2025-10-16 21:58:32 -0000 (Thu, 16 Oct 2025) EllapsedTime: 45.0 seconds RetCode: 0 Status: OK