Package: txcutr Version: 1.13.0 Command: E:\biocbuild\bbs-3.21-bioc\R\bin\R.exe CMD check --no-multiarch --install=check:txcutr.install-out.txt --library=E:\biocbuild\bbs-3.21-bioc\R\library --no-vignettes --timings txcutr_1.13.0.tar.gz StartedAt: 2025-02-04 06:51:16 -0500 (Tue, 04 Feb 2025) EndedAt: 2025-02-04 07:19:21 -0500 (Tue, 04 Feb 2025) EllapsedTime: 1684.9 seconds RetCode: 0 Status: OK CheckDir: txcutr.Rcheck Warnings: 0