Package: txcutr Version: 1.13.0 Command: chmod a+r txcutr -R && E:\biocbuild\bbs-3.21-bioc\R\bin\R.exe CMD build --keep-empty-dirs --no-resave-data txcutr StartedAt: 2025-02-03 22:25:07 -0500 (Mon, 03 Feb 2025) EndedAt: 2025-02-03 22:27:22 -0500 (Mon, 03 Feb 2025) EllapsedTime: 134.5 seconds RetCode: 0 Status: OK PackageFile: txcutr_1.13.0.tar.gz PackageFileSize: 315.2 KiB