Package: txcutr Version: 1.15.2 Command: /home/biocbuild/bbs-3.22-bioc/R/bin/R CMD build --keep-empty-dirs --no-resave-data --md5 txcutr StartedAt: 2025-10-03 20:35:56 -0400 (Fri, 03 Oct 2025) EndedAt: 2025-10-03 20:37:08 -0400 (Fri, 03 Oct 2025) EllapsedTime: 72.0 seconds RetCode: 0 Status: OK PackageFile: txcutr_1.15.2.tar.gz PackageFileSize: 316 KiB