Package: txcutr Version: 1.13.0 Command: /home/biocbuild/bbs-3.21-bioc/R/bin/R CMD check --install=check:txcutr.install-out.txt --library=/home/biocbuild/bbs-3.21-bioc/R/site-library --timings txcutr_1.13.0.tar.gz StartedAt: 2025-02-06 03:37:11 -0500 (Thu, 06 Feb 2025) EndedAt: 2025-02-06 03:45:00 -0500 (Thu, 06 Feb 2025) EllapsedTime: 468.6 seconds RetCode: 0 Status: OK CheckDir: txcutr.Rcheck Warnings: 0