Package: txcutr Version: 1.13.0 Command: /home/biocbuild/bbs-3.21-bioc/R/bin/R CMD build --keep-empty-dirs --no-resave-data txcutr StartedAt: 2025-02-02 19:35:36 -0500 (Sun, 02 Feb 2025) EndedAt: 2025-02-02 19:36:49 -0500 (Sun, 02 Feb 2025) EllapsedTime: 73.1 seconds RetCode: 0 Status: OK PackageFile: txcutr_1.13.0.tar.gz PackageFileSize: 314.8 KiB