Package: txcutr Version: 1.13.0 Command: /Library/Frameworks/R.framework/Resources/bin/R CMD check --install=check:txcutr.install-out.txt --library=/Library/Frameworks/R.framework/Resources/library --no-vignettes --timings txcutr_1.13.0.tar.gz StartedAt: 2025-02-05 21:56:46 -0500 (Wed, 05 Feb 2025) EndedAt: 2025-02-05 21:59:23 -0500 (Wed, 05 Feb 2025) EllapsedTime: 156.9 seconds RetCode: 0 Status: OK CheckDir: txcutr.Rcheck Warnings: 0