Package: txcutr Version: 1.13.0 Command: /Library/Frameworks/R.framework/Resources/bin/R CMD build --keep-empty-dirs --no-resave-data txcutr StartedAt: 2025-01-31 17:52:30 -0500 (Fri, 31 Jan 2025) EndedAt: 2025-01-31 17:52:59 -0500 (Fri, 31 Jan 2025) EllapsedTime: 29.3 seconds RetCode: 0 Status: OK PackageFile: txcutr_1.13.0.tar.gz PackageFileSize: 314.9 KiB