Package: txcutr Version: 1.15.0 Maintainer: Mervin Fansler MaintainerEmail: fanslerm at mskcc.org git_url: https://git.bioconductor.org/packages/txcutr git_branch: devel git_last_commit: 89bdb42 git_last_commit_date: 2025-04-15 12:42:23 -0400 (Tue, 15 Apr 2025)