Package: twoddpcr Version: 1.33.0 Command: /home/biocbuild/bbs-3.22-bioc/R/bin/R CMD INSTALL twoddpcr StartedAt: 2025-10-19 15:13:10 -0400 (Sun, 19 Oct 2025) EndedAt: 2025-10-19 15:13:21 -0400 (Sun, 19 Oct 2025) EllapsedTime: 11.5 seconds RetCode: 0 Status: OK