Package: twoddpcr Version: 1.33.0 Command: /home/biocbuild/bbs-3.22-bioc/R/bin/R CMD build --keep-empty-dirs --no-resave-data --md5 twoddpcr StartedAt: 2025-10-19 20:36:12 -0400 (Sun, 19 Oct 2025) EndedAt: 2025-10-19 20:38:38 -0400 (Sun, 19 Oct 2025) EllapsedTime: 145.1 seconds RetCode: 0 Status: OK PackageFile: twoddpcr_1.33.0.tar.gz PackageFileSize: 3.826 MiB