Package: twilight Version: 1.83.9 Command: rm -rf twilight.buildbin-libdir && mkdir twilight.buildbin-libdir && /Users/biocbuild/BBS/utils/build-universal.sh twilight_1.83.9.tar.gz /Library/Frameworks/R.framework/Resources/bin/R twilight.buildbin-libdir StartedAt: 2025-02-19 00:52:29 -0500 (Wed, 19 Feb 2025) EndedAt: 2025-02-19 00:52:41 -0500 (Wed, 19 Feb 2025) EllapsedTime: 11.8 seconds RetCode: 0 Status: OK PackageFile: twilight_1.83.9.tgz PackageFileSize: 1.221 MiB