Package: twilight Version: 1.83.9 Command: /Library/Frameworks/R.framework/Resources/bin/R CMD INSTALL twilight StartedAt: 2025-02-19 15:02:11 -0500 (Wed, 19 Feb 2025) EndedAt: 2025-02-19 15:02:16 -0500 (Wed, 19 Feb 2025) EllapsedTime: 4.8 seconds RetCode: 0 Status: OK