Package: twilight Version: 1.83.9 Command: /Library/Frameworks/R.framework/Resources/bin/R CMD build --keep-empty-dirs --no-resave-data twilight StartedAt: 2025-02-19 17:52:20 -0500 (Wed, 19 Feb 2025) EndedAt: 2025-02-19 17:53:13 -0500 (Wed, 19 Feb 2025) EllapsedTime: 52.6 seconds RetCode: 0 Status: OK PackageFile: twilight_1.83.9.tar.gz PackageFileSize: 1.195 MiB