Package: twilight Version: 1.85.0 Maintainer: Stefanie Senger MaintainerEmail: stefanie.scheid at gmx.de git_url: https://git.bioconductor.org/packages/twilight git_branch: devel git_last_commit: aa6eedb git_last_commit_date: 2025-04-15 09:35:15 -0400 (Tue, 15 Apr 2025)