Package: tweeDEseq Version: 1.55.0 Command: chmod a+r tweeDEseq -R && F:\biocbuild\bbs-3.22-bioc\R\bin\R.exe CMD build --keep-empty-dirs --no-resave-data tweeDEseq StartedAt: 2025-08-14 23:53:03 -0400 (Thu, 14 Aug 2025) EndedAt: 2025-08-15 00:02:13 -0400 (Fri, 15 Aug 2025) EllapsedTime: 549.8 seconds RetCode: 0 Status: OK PackageFile: tweeDEseq_1.55.0.tar.gz PackageFileSize: 234.2 KiB