Package: ttgsea Version: 1.15.0 Command: E:\biocbuild\bbs-3.21-bioc\R\bin\R.exe CMD INSTALL ttgsea StartedAt: 2025-02-03 16:18:35 -0500 (Mon, 03 Feb 2025) EndedAt: 2025-02-03 16:18:54 -0500 (Mon, 03 Feb 2025) EllapsedTime: 19.0 seconds RetCode: 0 Status: OK