Package: ttgsea Version: 1.15.0 Command: /home/biocbuild/bbs-3.21-bioc/R/bin/R CMD INSTALL ttgsea StartedAt: 2025-02-03 15:20:20 -0500 (Mon, 03 Feb 2025) EndedAt: 2025-02-03 15:20:30 -0500 (Mon, 03 Feb 2025) EllapsedTime: 10.7 seconds RetCode: 0 Status: OK