Package: ttgsea Version: 1.15.0 Command: /home/biocbuild/bbs-3.21-bioc/R/bin/R CMD check --install=check:ttgsea.install-out.txt --library=/home/biocbuild/bbs-3.21-bioc/R/site-library --timings ttgsea_1.15.0.tar.gz StartedAt: 2025-02-04 03:41:12 -0500 (Tue, 04 Feb 2025) EndedAt: 2025-02-04 03:43:03 -0500 (Tue, 04 Feb 2025) EllapsedTime: 111.2 seconds RetCode: 0 Status: OK CheckDir: ttgsea.Rcheck Warnings: 0