Package: ttgsea Version: 1.15.0 Command: /home/biocbuild/R/R/bin/R CMD check --install=check:ttgsea.install-out.txt --library=/home/biocbuild/R/R/site-library --no-vignettes --timings ttgsea_1.15.0.tar.gz StartedAt: 2025-01-27 13:42:39 -0000 (Mon, 27 Jan 2025) EndedAt: 2025-01-27 13:45:19 -0000 (Mon, 27 Jan 2025) EllapsedTime: 160.4 seconds RetCode: 0 Status: WARNINGS CheckDir: ttgsea.Rcheck Warnings: 5