Package: tripr Version: 1.13.0 Command: E:\biocbuild\bbs-3.21-bioc\R\bin\R.exe CMD check --no-multiarch --install=check:tripr.install-out.txt --library=E:\biocbuild\bbs-3.21-bioc\R\library --no-vignettes --timings tripr_1.13.0.tar.gz StartedAt: 2025-02-04 06:49:01 -0500 (Tue, 04 Feb 2025) EndedAt: 2025-02-04 06:51:07 -0500 (Tue, 04 Feb 2025) EllapsedTime: 126.6 seconds RetCode: 0 Status: WARNINGS CheckDir: tripr.Rcheck Warnings: 1