Package: tripr Version: 1.13.0 Command: /home/biocbuild/bbs-3.21-bioc/R/bin/R CMD INSTALL tripr StartedAt: 2025-02-03 15:18:33 -0500 (Mon, 03 Feb 2025) EndedAt: 2025-02-03 15:19:11 -0500 (Mon, 03 Feb 2025) EllapsedTime: 38.1 seconds RetCode: 0 Status: OK