Package: tripr Version: 1.13.0 Command: /home/biocbuild/bbs-3.21-bioc/R/bin/R CMD check --install=check:tripr.install-out.txt --library=/home/biocbuild/bbs-3.21-bioc/R/site-library --timings tripr_1.13.0.tar.gz StartedAt: 2025-02-04 03:39:23 -0500 (Tue, 04 Feb 2025) EndedAt: 2025-02-04 03:41:39 -0500 (Tue, 04 Feb 2025) EllapsedTime: 136.2 seconds RetCode: 0 Status: WARNINGS CheckDir: tripr.Rcheck Warnings: 1