Package: tripr Version: 1.13.0 Command: /home/biocbuild/R/R/bin/R CMD build --keep-empty-dirs --no-resave-data tripr StartedAt: 2025-01-28 03:02:05 -0000 (Tue, 28 Jan 2025) EndedAt: 2025-01-28 03:02:57 -0000 (Tue, 28 Jan 2025) EllapsedTime: 52.0 seconds RetCode: 0 Status: OK PackageFile: tripr_1.13.0.tar.gz PackageFileSize: 3.002 MiB