Package: triplex Version: 1.49.0 Command: chmod a+r triplex -R && F:\biocbuild\bbs-3.22-bioc\R\bin\R.exe CMD build --keep-empty-dirs --no-resave-data triplex StartedAt: 2025-08-14 23:51:56 -0400 (Thu, 14 Aug 2025) EndedAt: 2025-08-14 23:52:56 -0400 (Thu, 14 Aug 2025) EllapsedTime: 60.7 seconds RetCode: 0 Status: OK PackageFile: triplex_1.49.0.tar.gz PackageFileSize: 481.6 KiB